BEGIN:VCALENDAR
VERSION:2.0
PRODID:-//artifica.one//Ginestet//FR
CALSCALE:GREGORIAN
METHOD:PUBLISH
BEGIN:VEVENT
SUMMARY:Le Souvenir français met à l’honneur ses membr
 es
UID:3600
SEQUENCE:0
STATUS:CONFIRMED
TRANSP:TRANSPARENT
DTSTART:20260626T060000Z
DTEND:20260626T180000Z
DTSTAMP:20260422T092820Z
CATEGORIES:Culture
LOCATION:Mairie
 1 place de la mairie
 24130 Ginestet 
GEO:44.909904;0.428886
DESCRIPTION:Assemblée générale à la mairie de Ginestet
URL:https://www.ginestet24.fr/agenda/le-souvenir-francais-met-a-l-honneur-ses-membres-3600
END:VEVENT
END:VCALENDAR
